BEGIN:VCALENDAR
VERSION:2.0
PRODID:icalendar-ruby
CALSCALE:GREGORIAN
METHOD:PUBLISH
BEGIN:VEVENT
DTSTAMP:20260424T195600Z
UID:2149695773
DTSTART:20260519T130000Z
DTEND:20260519T170000Z
CLASS:PUBLIC
DESCRIPTION:FutureProof Your Charter School Summit
LOCATION:https://us02web.zoom.us/j/4850136618
ORGANIZER;CN=:mailto:
SEQUENCE:1777060560
STATUS:CONFIRMED
SUMMARY:FutureProof Your Charter School Summit
END:VEVENT
END:VCALENDAR
